BEGIN:VCALENDAR
VERSION:2.0
PRODID:-//Met WERKGELUK naar een TOPorganisatie! - ECPv6.15.20//NONSGML v1.0//EN
CALSCALE:GREGORIAN
METHOD:PUBLISH
X-ORIGINAL-URL:https://happybusinessacademy.nl
X-WR-CALDESC:Evenementen voor Met WERKGELUK naar een TOPorganisatie!
REFRESH-INTERVAL;VALUE=DURATION:PT1H
X-Robots-Tag:noindex
X-PUBLISHED-TTL:PT1H
BEGIN:VTIMEZONE
TZID:Europe/Paris
BEGIN:DAYLIGHT
TZOFFSETFROM:+0100
TZOFFSETTO:+0200
TZNAME:CEST
DTSTART:20130331T010000
END:DAYLIGHT
BEGIN:STANDARD
TZOFFSETFROM:+0200
TZOFFSETTO:+0100
TZNAME:CET
DTSTART:20131027T010000
END:STANDARD
BEGIN:DAYLIGHT
TZOFFSETFROM:+0100
TZOFFSETTO:+0200
TZNAME:CEST
DTSTART:20140330T010000
END:DAYLIGHT
BEGIN:STANDARD
TZOFFSETFROM:+0200
TZOFFSETTO:+0100
TZNAME:CET
DTSTART:20141026T010000
END:STANDARD
BEGIN:DAYLIGHT
TZOFFSETFROM:+0100
TZOFFSETTO:+0200
TZNAME:CEST
DTSTART:20150329T010000
END:DAYLIGHT
BEGIN:STANDARD
TZOFFSETFROM:+0200
TZOFFSETTO:+0100
TZNAME:CET
DTSTART:20151025T010000
END:STANDARD
BEGIN:DAYLIGHT
TZOFFSETFROM:+0100
TZOFFSETTO:+0200
TZNAME:CEST
DTSTART:20160327T010000
END:DAYLIGHT
BEGIN:STANDARD
TZOFFSETFROM:+0200
TZOFFSETTO:+0100
TZNAME:CET
DTSTART:20161030T010000
END:STANDARD
END:VTIMEZONE
BEGIN:VEVENT
DTSTART;VALUE=DATE:20150601
DTEND;VALUE=DATE:20150602
DTSTAMP:20260422T122317
CREATED:20150319T092341Z
LAST-MODIFIED:20150902T141501Z
UID:4926-1433116800-1433203199@happybusinessacademy.nl
SUMMARY:Happy high performance organisatie
DESCRIPTION:Hoe bouw ik een gelukkige organisatie met boven gemiddelde prestaties?
URL:https://happybusinessacademy.nl/event/happy-high-performance-organisatie/
LOCATION:Van der Valk Nieuwekerk\, Kerkstraat 1\, Rotterdam\, Nederland
ATTACH;FMTTYPE=image/jpeg:https://happybusinessacademy.nl/wp-content/uploads/2015/02/shutterstock_1909639431.jpg
END:VEVENT
BEGIN:VEVENT
DTSTART;TZID=Europe/Paris:20150323T090000
DTEND;TZID=Europe/Paris:20150323T170000
DTSTAMP:20260422T122317
CREATED:20150325T140319Z
LAST-MODIFIED:20150902T191619Z
UID:5108-1427101200-1427130000@happybusinessacademy.nl
SUMMARY:Opleiding Poweranalyse organisatie
DESCRIPTION:Opleiding voor managers\nKennis en toepassingen van :\nPoweranalyse organisatie voor inzicht in de kracht & valkuilen van de organisatie\nVerrassende nieuwe doorbraakinzichten voor prestaties van de organisatie en het geluk binnen de organisatie. Resultaat: elkaar versterken vanuit individuele kracht en effectiever samenwerken binnen de organisatie.\n \n\n\nDé start voor een ontwikkelroute voor uw organisatie met meerdere teams na een inspirerend Event of Seminar… \n\n\nVoordat een ontwikkelingsroute ‘Happiness’ voor uw organisatie gestart wordt adviseren we gebruik te maken van onze organisatiepoweranalyse. Deze analyse kan concreet aangeven waar bij jullie op de organisatie de passie en slagkracht zit voor een succesvol samenwerken en beter presteren. \n\n\nOok hebben we een antwoord op de vraag hoe gelukkig de organisatie en de mensen zijn en hoe je dat kan verbeteren. Met een gelukkige organisatie (inclusief de managers) … meer rendement! \nWat levert het invullen van de Organisatie Poweranalyse je op: \n\nConcrete handvatten voor verdere groei en ontwikkeling\nInzicht in passie\, kracht\, valkuilen en gedrag van de individuele leden en de organisatie als geheel\nBewustwording van de verschillende typen mensen en bijbehorende gedragskeuzes\nInzicht in geluk op de organisatie en welke acties bij de organisatie passen om het geluk concreet te verbeteren (gebaseerd op wetenschappelijk onderzoek)\nBespreekstuk voor High Performance ontwikkeling organisatie(s)\nFundament voor juiste keuze voor aannamebeleid op het werk (baan\, functieprofiel\, rol)\nVerbetering van de organisatieperformance\, samen met het management\nVersterking van samenwerken met passie\nHerkenning van de organisatiedrives en doorvertalen naar het hogere organisatiedoel in de praktijk\n\nVerrassende inzichten die de prestaties van de organisatie en de samenwerking zeer kunnen verbeteren! \n\n 
URL:https://happybusinessacademy.nl/event/poweranalyse-jongeren/
LOCATION:Besloten event\, Utrecht\, Nederland
CATEGORIES:Diensten,Masterclass
ATTACH;FMTTYPE=image/jpeg:https://happybusinessacademy.nl/wp-content/uploads/2015/02/shutterstock_177220700-e1412689060990.jpg
END:VEVENT
BEGIN:VEVENT
DTSTART;TZID=Europe/Paris:20140125T130000
DTEND;TZID=Europe/Paris:20140125T170000
DTSTAMP:20260422T122317
CREATED:20150325T134713Z
LAST-MODIFIED:20150902T141311Z
UID:5102-1390654800-1390669200@happybusinessacademy.nl
SUMMARY:Seminar 'Ga voor goud' - Samenwerken vanuit je talent
DESCRIPTION:Seminar ‘Ga voor goud’ – Samenwerken vanuit je talent
URL:https://happybusinessacademy.nl/event/seminar-ga-voor-goud-samenwerken-vanuit-je-talent/
ATTACH;FMTTYPE=image/jpeg:https://happybusinessacademy.nl/wp-content/uploads/2014/11/shutterstock_208554778.jpg
END:VEVENT
END:VCALENDAR